Workbook

Sheet .
A1: Consider the following data for the airline industry for July 2018 ​(EV=enterprise ​value, Book=equity book​ value).
A2: Suppose Alaska Air​ (ALK) has million shares outstanding. Estimate Alaska​ Air's share value using each of the five valuation​ multiples, based on the median valuation multiple of the other seven airlines shown.
A6: Company Name | B6: Market Capitalization | C6: Enterprise Value (EV) | D6: EV/Sales | E6: EV/EBITDA | F6: EV/EBIT | G6: P/E | H6: Forward P/E
A7: Alaska Air (ALK) | B7: 7286 | C7: 8207 | D7: 1.02 | E7: 5.1 | F7: 6.7 | G7: 7.7 | H7: 12.5
A8: American Airlines (AAL) | B8: 17879 | C8: 37327 | D8: 0.87 | E8: 5.7 | F8: 8.2 | G8: 10.5 | H8: 8.2
A9: Delta Air Lines (DAL) | B9: 35580 | C9: 44164 | D9: 1.02 | E9: 5.7 | F9: 8 | G9: 10.8 | H9: 8.8
A10: Hawaiian (HA) | B10: 2023 | C10: 2057 | D10: 0.73 | E10: 3.4 | F10: 4.1 | G10: 5.8 | H10: 7.2
A11: JetBlue Airways (JBLU) | B11: 5450 | C11: 5814 | D11: 0.8 | E11: 4.1 | F11: 5.9 | G11: 4.9 | H11: 10.8
A12: SkyWest (SKYW) | B12: 2909 | C12: 5040 | D12: 1.56 | E12: 7.2 | F12: 12.6 | G12: 6.6 | H12: 11.8
A13: Southwest Airlines (LUV) | B13: 30318 | C13: 30691 | D13: 1.44 | E13: 6.9 | F13: 8.9 | G13: 8.6 | H13: 12.3
A14: United Continental (UAL) | B14: 21961 | C14: 31393 | D14: 0.8 | E14: 5.7 | F14: 9.2 | G14: 11.4 | H14: 9.3
A15: Source: Capital IQ | B15: July 2018

Sheet Income Statement
B2: 43829 | C2: 43464
B3: Total Revenue | C3: 8781
B4: Cost of Revenue, Total | C4: 3848
B5: EBITDA | C5: 4933
B6: Selling/General/Admin. Expenses, Total | C6: 2846
B7: Depreciation/Amortization | C7: 423
B8: Interest Exp.(Inc.),Net-Operating, Total | C8: -2
B9: Unusual Expense (Income) | C9: 44
B10: Other Operating Expenses, Total | C10: 559
B11: Total Operating Expense | C11: 7718
B12: EBIT | C12: 1063
B13: Interest Inc.(Exp.),Net-Non-Op., Total | C13: -21
B14: Other, Net | C14: -26
... B19: Diluted EPS Excluding ExtraOrd Items | C19: 6.19
C30: =C23/C18 -> 0

Sheet Balance Sheet
B2: Balance Sheet | C2: 43464
B3: Cash & Equivalents | C3: 221
B4: Short Term Investments | C4: 1300
B5: Accounts Receivable - Trade, Net | C5: 323
B6: Total Receivables, Net | C6: 323
B7: Total Inventory | C7: 72
B8: Prepaid Expenses | C8: 113
B9: Other Current Assets, Total | C9: 8
B10: Total Current Assets | C10: 2037
B11: Property/Plant/Equipment, Total - Gross | C11: 12099
B12: Accumulated Depreciation, Total | C12: -3486
B13: Property/Plant/Equipment, Total - Net | C13: 8613
... B26: Other Liabilities, Total | C26: 3482
B27: Total Liabilities | C27: =SUM(C23:C26) -> 8662
B28: Common Stock, Total | C28: 1
B29: Additional Paid-In Capital | C29: 305
B30: Retained Earnings (Accumulated Deficit) | C30: 5133
B31: Treasury Stock - Common | C31: -643
B32: Unrealized Gain (Loss) | C32: 9
B33: Other Equity, Total | C33: -474
B34: Total Equity | C34: 4331
B35: Total Liabilities & Shareholders' Equity | C35: 12993
B36: Total Common Shares Outstanding | C36: 124.29

Sheet Cash Flow Statement
B2: Statement of Cash Flows | C2: 43464
B3: Net Income/Starting Line | C3: 769
B4: Depreciation/Depletion | C4: 423
B5: Non-Cash Items | C5: 29
B6: Cash Taxes Paid | C6: 31
B7: Cash Interest Paid | C7: 60
B8: Changes in Working Capital | C8: 501
B9: Cash from Operating Activities | C9: 1722
B10: Capital Expenditures | C10: -696
B11: Other Investing Cash Flow Items, Total | C11: -95
B12: Cash from Investing Activities | C12: -791
B13: Financing Cash Flow Items | C13: 43
... B18: Net Change in Cash | C18: 118

Sheet Valuation Models
B3: Company Name | C3: Market Capitalization | D3: Enterprise Value (EV) | E3: EV/Sales | F3: EV/EBITDA | G3: EV/EBIT | H3: P/E | I3: Forward P/E
B4: Alaska Air (ALK) | C4: 7286 | D4: 8207 | E4: 1.02 | F4: 5.1 | G4: 6.7 | H4: 7.7 | I4: 12.5
B5: American Airlines (AAL) | C5: 17879 | D5: 37327 | E5: 0.87 | F5: 5.7 | G5: 8.2 | H5: 10.5 | I5: 8.2
B6: Delta Air Lines (DAL) | C6: 35580 | D6: 44164 | E6: 1.02 | F6: 5.7 | G6: 8 | H6: 10.8 | I6: 8.8
B7: Hawaiian (HA) | C7: 2023 | D7: 2057 | E7: 0.73 | F7: 3.4 | G7: 4.1 | H7: 5.8 | I7: 7.2
B8: JetBlue Airways (JBLU) | C8: 5450 | D8: 5814 | E8: 0.8 | F8: 4.1 | G8: 5.9 | H8: 4.9 | I8: 10.8
B9: SkyWest (SKYW) | C9: 2909 | D9: 5040 | E9: 1.56 | F9: 7.2 | G9: 12.6 | H9: 6.6 | I9: 11.8
B10: Southwest Airlines (LUV) | C10: 30318 | D10: 30691 | E10: 1.44 | F10: 6.9 | G10: 8.9 | H10: 8.6 | I10: 12.3
B11: United Continental (UAL) | C11: 21961 | D11: 31393 | E11: 0.8 | F11: 5.7 | G11: 9.2 | H11: 11.4 | I11: 9.3
B12: Median( For the Industry) | C12: =MEDIAN(C4:C11) -> 12582.5 | D12: =MEDIAN(D4:D11) -> 19449 | E12: =MEDIAN(E4:E11) -> 0.945 | F12: =MEDIAN(F4:F11) -> 5.7 | G12: =MEDIAN(G4:G11) -> 8.1 | H12: =MEDIAN(H4:H11) -> 8.15 | I12: =MEDIAN(I4:I11) -> 10.05
A14: Suppose Alaska Air​ (ALK) has million shares outstanding. Estimate Alaska​ Air's share value using each of the five valuation​ multiples, based on the median valuation multiple of the other seven airlines shown.
A15: 1 | B15: EV/EBITDA model
B16: EV/EBITDA(of the industry) | D16: =F12 -> 5.7
B17: Alaska Air (ALK) Value Estimate | C17: = | D17: EBITDA*EV/EBITDA Value of the industry
B18: EBIT | C18: = | D18: ='Income Statement'!C12 -> 1063
B19: Add Back Depreciation/Amortization | C19: = | D19: ='Income Statement'!C7 -> 423
B20: EBITDA(Earnings Before Interest,Tax,Depreciation and Tax) | C20: = | D20: =D18+D19 -> 1486
B21: Alaska Air (ALK) Value Estimate | C21: = | D21: =D20*D16 -> 8470.2
B23: Equity Value Estimate | C23: = | D23: Value of Firm-Debt+Cash
B24: Debt | C24: = | D24: ='Balance Sheet'!C27 -> 8662
B25: Cash | C25: = | D25: ='Balance Sheet'!C3 -> 221
B26: Equity Value Estimate | C26: = | D26: =D21-D24+D25 -> 29.2
B27: No. Of Shares Outstanding | C27: = | D27: 1000000
B28: Value of Share | C28: = | D28: =D26/D27 -> 2.92e-05
A30: 2 | B30: EV/Sales Vatuation Model
B31: EV/Sales Industry Ratio | C31: = | D31: =E12 -> 0.945
B32: Alaska Air(ALK) Value Estimate | C32: = | D32: EV/Sales*Sales or Revenue
B33: Total Annual Revenue | C33: = | D33: ='Income Statement'!C3 -> 8781
B34: Alaska Air(ALK) Value Estimate | C34: = | D34: =D33*D31 -> 8298.045
B36: Equity Value Estimate | C36: = | D36: Value of Firm-Debt+Cash
B37: Debt | C37: = | D37: ='Balance Sheet'!C27 -> 8662
B38: Cash | C38: = | D38: ='Balance Sheet'!C3 -> 221
B39: Equity Value Estimate | C39: = | D39: =D34-D37+D38 -> -142.955
B40: No. Of Shares Outstanding | C40: = | D40: =D27 -> 1000000
B41: Value of Share | C41: = | D41: =D39/D40 -> -0.000142955
A43: 3 | B43: EV/EBIT Model
B44: EV/EBIT Industry Ratio | C44: = | D44: =G12 -> 8.1
B45: Alaska Air(ALK) Value Estimate | C45: = | D45: Ev/EBIT*EBIT
B46: EBIT | C46: = | D46: =D18 -> 1063
B47: Alaska Air(ALK) Value Estimate | C47: = | D47: =D44*D46 -> 8610.3
...
